BEGIN:VCALENDAR
VERSION:2.0
PRODID:-//Post Adoption Resource Centers - ECPv6.15.20//NONSGML v1.0//EN
CALSCALE:GREGORIAN
METHOD:PUBLISH
X-WR-CALNAME:Post Adoption Resource Centers
X-ORIGINAL-URL:https://parc-orchards.org
X-WR-CALDESC:Events for Post Adoption Resource Centers
REFRESH-INTERVAL;VALUE=DURATION:PT1H
X-Robots-Tag:noindex
X-PUBLISHED-TTL:PT1H
BEGIN:VTIMEZONE
TZID:America/New_York
BEGIN:DAYLIGHT
TZOFFSETFROM:-0500
TZOFFSETTO:-0400
TZNAME:EDT
DTSTART:20250309T070000
END:DAYLIGHT
BEGIN:STANDARD
TZOFFSETFROM:-0400
TZOFFSETTO:-0500
TZNAME:EST
DTSTART:20251102T060000
END:STANDARD
BEGIN:DAYLIGHT
TZOFFSETFROM:-0500
TZOFFSETTO:-0400
TZNAME:EDT
DTSTART:20260308T070000
END:DAYLIGHT
BEGIN:STANDARD
TZOFFSETFROM:-0400
TZOFFSETTO:-0500
TZNAME:EST
DTSTART:20261101T060000
END:STANDARD
BEGIN:DAYLIGHT
TZOFFSETFROM:-0500
TZOFFSETTO:-0400
TZNAME:EDT
DTSTART:20270314T070000
END:DAYLIGHT
BEGIN:STANDARD
TZOFFSETFROM:-0400
TZOFFSETTO:-0500
TZNAME:EST
DTSTART:20271107T060000
END:STANDARD
END:VTIMEZONE
BEGIN:VEVENT
DTSTART;VALUE=DATE:20260428
DTEND;VALUE=DATE:20260429
DTSTAMP:20260422T062626
CREATED:20260421T021255Z
LAST-MODIFIED:20260421T021255Z
UID:21021-1777334400-1777420799@parc-orchards.org
SUMMARY:Mystery of the Mayan Medallion
DESCRIPTION:Families can explore an immersive exhibit where kids follow clues through an ancient Maya mystery. Children can decode glyphs\, learn about rainforest animals and try hands on activities like charcoal rubbings and a tabletop Maya ballgame. The exhibit runs for several months and is best for elementary age kids and up. \nEvent cost: Exhibit admission in addition to museum admission. Adults $9\, adult members $8. Seniors 65+ and children ages 2-12 $7\, members $6. CIS Enhanced members and children under 2 are free. \nEvent times: During regular museum hours Feb. 1-June 7
URL:https://parc-orchards.org/event/mystery-of-the-mayan-medallion-7/
LOCATION:Cranbrook Institute of Science\, 39221 Woodward Ave.\, Bloomfield Hills\, MI\, 48303\, United States
CATEGORIES:Oakland County
END:VEVENT
BEGIN:VEVENT
DTSTART;TZID=America/New_York:20260429T100000
DTEND;TZID=America/New_York:20260429T113000
DTSTAMP:20260422T062626
CREATED:20260415T214738Z
LAST-MODIFIED:20260415T214738Z
UID:20917-1777456800-1777462200@parc-orchards.org
SUMMARY:Preschool Skate in Livonia
DESCRIPTION:They have free skate and time to get your skates from 10-10:30\, a lesson from 10:30 to 11ish\, then free skate until 11:30. \nOUR PRESCHOOL SKATE AND CLASS IS EVERY WEDNESDAY\, FROM 10:00 AM TO 11:30 AM.  PARENTS\, STROLLERS\, AND CHILDREN SIX YEARS OLD AND UNDER ARE WELCOME.  THIS INSTRUCTIONAL AND FUN-FILLED SKATING TIME IS DESIGNED SPECIFICALLY FOR PRESCHOOLERS.  CHILDREN LEARN BALANCE\, HOKEY POKEY AND CHICKEN DANCE.  KIDS MUSIC\, AND RENTALS ARE INCLUDED FOR ONLY $5.00 PER SKATER. \nCost: $5 per skater \nDate: Wednesday\, April 29th\, 10:00 AM – 11:30 AM
URL:https://parc-orchards.org/event/preschool-skate-in-livonia/
LOCATION:Riverside Arena\, 36635 Plymouth Rd\, Livonia\, MI\, 48150\, United States
CATEGORIES:Wayne County
END:VEVENT
END:VCALENDAR