BEGIN:VCALENDAR
VERSION:2.0
PRODID:-//Post Adoption Resource Centers - ECPv6.15.20//NONSGML v1.0//EN
CALSCALE:GREGORIAN
METHOD:PUBLISH
X-ORIGINAL-URL:https://parc-orchards.org
X-WR-CALDESC:Events for Post Adoption Resource Centers
REFRESH-INTERVAL;VALUE=DURATION:PT1H
X-Robots-Tag:noindex
X-PUBLISHED-TTL:PT1H
BEGIN:VTIMEZONE
TZID:America/New_York
BEGIN:DAYLIGHT
TZOFFSETFROM:-0500
TZOFFSETTO:-0400
TZNAME:EDT
DTSTART:20250309T070000
END:DAYLIGHT
BEGIN:STANDARD
TZOFFSETFROM:-0400
TZOFFSETTO:-0500
TZNAME:EST
DTSTART:20251102T060000
END:STANDARD
BEGIN:DAYLIGHT
TZOFFSETFROM:-0500
TZOFFSETTO:-0400
TZNAME:EDT
DTSTART:20260308T070000
END:DAYLIGHT
BEGIN:STANDARD
TZOFFSETFROM:-0400
TZOFFSETTO:-0500
TZNAME:EST
DTSTART:20261101T060000
END:STANDARD
BEGIN:DAYLIGHT
TZOFFSETFROM:-0500
TZOFFSETTO:-0400
TZNAME:EDT
DTSTART:20270314T070000
END:DAYLIGHT
BEGIN:STANDARD
TZOFFSETFROM:-0400
TZOFFSETTO:-0500
TZNAME:EST
DTSTART:20271107T060000
END:STANDARD
END:VTIMEZONE
BEGIN:VEVENT
DTSTART;TZID=America/New_York:20260422T160000
DTEND;TZID=America/New_York:20260422T180000
DTSTAMP:20260422T045752
CREATED:20260421T023806Z
LAST-MODIFIED:20260421T023806Z
UID:21028-1776873600-1776880800@parc-orchards.org
SUMMARY:Southfield Recreation Earth Day
DESCRIPTION:Southfield Recreation Earth Day – Southfield Recreation Earth Day Fun at Carpenter Lake Nature Preserve. Celebrate Earth Day with hands-on activities. \nEnjoy a scavenger hunt\, create birdhouses\, plant seeds\, and explore nature with an Oakland County Naturalist.
URL:https://parc-orchards.org/event/southfield-recreation-earth-day/
LOCATION:Carpenter Lake Nature Preserve\, 27101-27215 W 10 Mile Rd\, Southfield\, MI\, 48033\, United States
CATEGORIES:Oakland County
END:VEVENT
END:VCALENDAR