BEGIN:VCALENDAR
VERSION:2.0
PRODID:-//Post Adoption Resource Centers - ECPv6.15.20//NONSGML v1.0//EN
CALSCALE:GREGORIAN
METHOD:PUBLISH
X-ORIGINAL-URL:https://parc-orchards.org
X-WR-CALDESC:Events for Post Adoption Resource Centers
REFRESH-INTERVAL;VALUE=DURATION:PT1H
X-Robots-Tag:noindex
X-PUBLISHED-TTL:PT1H
BEGIN:VTIMEZONE
TZID:America/New_York
BEGIN:DAYLIGHT
TZOFFSETFROM:-0500
TZOFFSETTO:-0400
TZNAME:EDT
DTSTART:20240310T070000
END:DAYLIGHT
BEGIN:STANDARD
TZOFFSETFROM:-0400
TZOFFSETTO:-0500
TZNAME:EST
DTSTART:20241103T060000
END:STANDARD
BEGIN:DAYLIGHT
TZOFFSETFROM:-0500
TZOFFSETTO:-0400
TZNAME:EDT
DTSTART:20250309T070000
END:DAYLIGHT
BEGIN:STANDARD
TZOFFSETFROM:-0400
TZOFFSETTO:-0500
TZNAME:EST
DTSTART:20251102T060000
END:STANDARD
BEGIN:DAYLIGHT
TZOFFSETFROM:-0500
TZOFFSETTO:-0400
TZNAME:EDT
DTSTART:20260308T070000
END:DAYLIGHT
BEGIN:STANDARD
TZOFFSETFROM:-0400
TZOFFSETTO:-0500
TZNAME:EST
DTSTART:20261101T060000
END:STANDARD
END:VTIMEZONE
BEGIN:VEVENT
DTSTART;TZID=America/New_York:20251107T173000
DTEND;TZID=America/New_York:20251107T190000
DTSTAMP:20260422T045843
CREATED:20251106T075416Z
LAST-MODIFIED:20251106T075416Z
UID:20416-1762536600-1762542000@parc-orchards.org
SUMMARY:Fairytale Princess Celebration at Fairytale Fun Place
DESCRIPTION:Meet your favorite princesses and princes during the Fairytale Princess Celebration in Clarkston. Kids can enjoy live singing\, dancing and interactive storytelling with beloved characters like Elsa\, Rapunzel and Moana. Tickets include open play passes for extra fun. \nStep into a world of magic and wonder at the Fairytale Princess Celebration! Experience a spectacular show featuring beloved princesses and princes. This interactive performance brings your favorite characters to life through singing\, dancing\, and enchanting storytelling. \nMeet the Cast: \n*Queen Elsa & Princess Anna \n*Kristoff \n*Rapunzel & Flynn \n*Princess Tiana & Prince Naveen \n*Moana \n*Merida \nWhy You’ll Love This Event: \n*Interactive Performances: Be part of the story and let your imagination soar. \n*Top-Quality Entertainment: Stunning costumes\, carefully crafted performances\, and attention to detail ensure an unforgettable and unique experience. \n*Family-Friendly Fun: Perfect for children and adults alike—make lasting memories together. \nTickets are selling fast\, so secure your spot today and kick off the holiday season with magic\, music\, and enchantment! \nEvent Dates/Times: \nNovember 7th: 5:30pm \nNovember 8th: 11am & 3pm
URL:https://parc-orchards.org/event/fairytale-princess-celebration-at-fairytale-fun-place/
LOCATION:Fairytale Fun Place\, 7127 Dixie Hwy.\, Clarkston\, MI\, 48346\, United States
CATEGORIES:Oakland County
END:VEVENT
END:VCALENDAR