BEGIN:VCALENDAR
VERSION:2.0
PRODID:-//Post Adoption Resource Centers - ECPv6.15.20//NONSGML v1.0//EN
CALSCALE:GREGORIAN
METHOD:PUBLISH
X-ORIGINAL-URL:https://parc-orchards.org
X-WR-CALDESC:Events for Post Adoption Resource Centers
REFRESH-INTERVAL;VALUE=DURATION:PT1H
X-Robots-Tag:noindex
X-PUBLISHED-TTL:PT1H
BEGIN:VTIMEZONE
TZID:America/New_York
BEGIN:DAYLIGHT
TZOFFSETFROM:-0500
TZOFFSETTO:-0400
TZNAME:EDT
DTSTART:20250309T070000
END:DAYLIGHT
BEGIN:STANDARD
TZOFFSETFROM:-0400
TZOFFSETTO:-0500
TZNAME:EST
DTSTART:20251102T060000
END:STANDARD
BEGIN:DAYLIGHT
TZOFFSETFROM:-0500
TZOFFSETTO:-0400
TZNAME:EDT
DTSTART:20260308T070000
END:DAYLIGHT
BEGIN:STANDARD
TZOFFSETFROM:-0400
TZOFFSETTO:-0500
TZNAME:EST
DTSTART:20261101T060000
END:STANDARD
BEGIN:DAYLIGHT
TZOFFSETFROM:-0500
TZOFFSETTO:-0400
TZNAME:EDT
DTSTART:20270314T070000
END:DAYLIGHT
BEGIN:STANDARD
TZOFFSETFROM:-0400
TZOFFSETTO:-0500
TZNAME:EST
DTSTART:20271107T060000
END:STANDARD
END:VTIMEZONE
BEGIN:VEVENT
DTSTART;TZID=America/New_York:20260330T140000
DTEND;TZID=America/New_York:20260330T150000
DTSTAMP:20260422T092509
CREATED:20260306T025139Z
LAST-MODIFIED:20260306T025139Z
UID:20807-1774879200-1774882800@parc-orchards.org
SUMMARY:Kids Art Academy (Grades 1-5)
DESCRIPTION:Library events are always free to the public and you do not need a library card to attend!  \nThe Farmington Community Library has two locations. This event will be held in the Auditorium at the FCL Farmington Hills location at 32737 W. 12 Mile Rd.\, Farmington Hills\, MI 48334.  \nNo registration is required. \nGet inspired by famous artists\, and create a work of art in their style to take home with you. \n  \n\nDisclaimer(s)\n\n\nADA Requests: To request ADA accommodations\, such as wheelchair access or sign language interpretation\, please complete the Accessibility Request Form at least 10 days before the event.\n\n\n\nAdaptive Tools: Adaptive tools will be available at this event.
URL:https://parc-orchards.org/event/kids-art-academy-grades-1-5/
LOCATION:Farmington Community Library\, 32737 W. 12 Mile Rd.\, Farmington HIlls\, MI\, United States
CATEGORIES:Oakland County
END:VEVENT
BEGIN:VEVENT
DTSTART;TZID=America/New_York:20260330T143000
DTEND;TZID=America/New_York:20260330T193000
DTSTAMP:20260422T092509
CREATED:20260304T065457Z
LAST-MODIFIED:20260304T065457Z
UID:20772-1774881000-1774899000@parc-orchards.org
SUMMARY:Make and Take 8-bit Keychains in Dearborn
DESCRIPTION:Join us in the SparkLab during Spring Break to make videogame themed keychains with Perler beads! \nSparkLab Hours: Monday 2:30 – 7:30 PM\, Tuesday 10:30 – 3:30 PM\, Wednesday 2:30 – 7:30 PM \nCost: Free \nDate: Monday\, March 30th\, 2:30 PM – 7:30 PM
URL:https://parc-orchards.org/event/make-and-take-8-bit-keychains-in-dearborn/
LOCATION:Henry Ford Centennial Library\, 16301 Michigan Ave\, Dearborn\, MI\, 48126\, United States
CATEGORIES:Wayne County
END:VEVENT
END:VCALENDAR